Workbook

Sheet Registro
A1: Fecha | B1: Trabajo | C1: Entrada | D1: Salida | E1: Pausa (min) | F1: Horas | G1: Ventas | H1: Propinas en efectivo | I1: Propinas con tarjeta | J1: Del pool | K1: Reparto | L1: A quién | M1: Te quedó | N1: Notas
F2: =IF(OR(C2="",D2=""),"",ROUND(MOD(D2-C2,1)*24-N(E2)/60,2)) | M2: =IF(COUNT(H2:K2)=0,"",N(H2)+N(I2)+N(J2)-N(K2))
F3: =IF(OR(C3="",D3=""),"",ROUND(MOD(D3-C3,1)*24-N(E3)/60,2)) | M3: =IF(COUNT(H3:K3)=0,"",N(H3)+N(I3)+N(J3)-N(K3))
F4: =IF(OR(C4="",D4=""),"",ROUND(MOD(D4-C4,1)*24-N(E4)/60,2)) | M4: =IF(COUNT(H4:K4)=0,"",N(H4)+N(I4)+N(J4)-N(K4))
F5: =IF(OR(C5="",D5=""),"",ROUND(MOD(D5-C5,1)*24-N(E5)/60,2)) | M5: =IF(COUNT(H5:K5)=0,"",N(H5)+N(I5)+N(J5)-N(K5))
F6: =IF(OR(C6="",D6=""),"",ROUND(MOD(D6-C6,1)*24-N(E6)/60,2)) | M6: =IF(COUNT(H6:K6)=0,"",N(H6)+N(I6)+N(J6)-N(K6))
F7: =IF(OR(C7="",D7=""),"",ROUND(MOD(D7-C7,1)*24-N(E7)/60,2)) | M7: =IF(COUNT(H7:K7)=0,"",N(H7)+N(I7)+N(J7)-N(K7))
F8: =IF(OR(C8="",D8=""),"",ROUND(MOD(D8-C8,1)*24-N(E8)/60,2)) | M8: =IF(COUNT(H8:K8)=0,"",N(H8)+N(I8)+N(J8)-N(K8))
F9: =IF(OR(C9="",D9=""),"",ROUND(MOD(D9-C9,1)*24-N(E9)/60,2)) | M9: =IF(COUNT(H9:K9)=0,"",N(H9)+N(I9)+N(J9)-N(K9))
F10: =IF(OR(C10="",D10=""),"",ROUND(MOD(D10-C10,1)*24-N(E10)/60,2)) | M10: =IF(COUNT(H10:K10)=0,"",N(H10)+N(I10)+N(J10)-N(K10))
F11: =IF(OR(C11="",D11=""),"",ROUND(MOD(D11-C11,1)*24-N(E11)/60,2)) | M11: =IF(COUNT(H11:K11)=0,"",N(H11)+N(I11)+N(J11)-N(K11))
F12: =IF(OR(C12="",D12=""),"",ROUND(MOD(D12-C12,1)*24-N(E12)/60,2)) | M12: =IF(COUNT(H12:K12)=0,"",N(H12)+N(I12)+N(J12)-N(K12))
F13: =IF(OR(C13="",D13=""),"",ROUND(MOD(D13-C13,1)*24-N(E13)/60,2)) | M13: =IF(COUNT(H13:K13)=0,"",N(H13)+N(I13)+N(J13)-N(K13))
... F401: =IF(OR(C401="",D401=""),"",ROUND(MOD(D401-C401,1)*24-N(E401)/60,2)) | M401: =IF(COUNT(H401:K401)=0,"",N(H401)+N(I401)+N(J401)-N(K401))

Sheet Por mes
A1: Año | B1: 2026
A3: Mes | B3: Turnos | C3: Horas | D3: Ventas | E3: Propinas en efectivo | F3: Propinas con tarjeta | G3: Del pool | H3: Reparto | I3: Te quedó
A4: Enero | B4: =COUNTIFS('Registro'!$A$2:$A$401,">="&DATE($B$1,1,1),'Registro'!$A$2:$A$401,"<"&DATE($B$1,2,1)) | C4: =SUMIFS('Registro'!$F$2:$F$401,'Registro'!$A$2:$A$401,">="&DATE($B$1,1,1),'Registro'!$A$2:$A$401,"<"&DATE($B$1,2,1)) | D4: =SUMIFS('Registro'!$G$2:$G$401,'Registro'!$A$2:$A$401,">="&DATE($B$1,1,1),'Registro'!$A$2:$A$401,"<"&DATE($B$1,2,1)) | E4: =SUMIFS('Registro'!$H$2:$H$401,'Registro'!$A$2:$A$401,">="&DATE($B$1,1,1),'Registro'!$A$2:$A$401,"<"&DATE($B$1,2,1)) | F4: =SUMIFS('Registro'!$I$2:$I$401,'Registro'!$A$2:$A$401,">="&DATE($B$1,1,1),'Registro'!$A$2:$A$401,"<"&DATE($B$1,2,1)) | G4: =SUMIFS('Registro'!$J$2:$J$401,'Registro'!$A$2:$A$401,">="&DATE($B$1,1,1),'Registro'!$A$2:$A$401,"<"&DATE($B$1,2,1)) | H4: =SUMIFS('Registro'!$K$2:$K$401,'Registro'!$A$2:$A$401,">="&DATE($B$1,1,1),'Registro'!$A$2:$A$401,"<"&DATE($B$1,2,1)) | I4: =SUMIFS('Registro'!$M$2:$M$401,'Registro'!$A$2:$A$401,">="&DATE($B$1,1,1),'Registro'!$A$2:$A$401,"<"&DATE($B$1,2,1))
A5: Febrero | B5: =COUNTIFS('Registro'!$A$2:$A$401,">="&DATE($B$1,2,1),'Registro'!$A$2:$A$401,"<"&DATE($B$1,3,1)) | C5: =SUMIFS('Registro'!$F$2:$F$401,'Registro'!$A$2:$A$401,">="&DATE($B$1,2,1),'Registro'!$A$2:$A$401,"<"&DATE($B$1,3,1)) | D5: =SUMIFS('Registro'!$G$2:$G$401,'Registro'!$A$2:$A$401,">="&DATE($B$1,2,1),'Registro'!$A$2:$A$401,"<"&DATE($B$1,3,1)) | E5: =SUMIFS('Registro'!$H$2:$H$401,'Registro'!$A$2:$A$401,">="&DATE($B$1,2,1),'Registro'!$A$2:$A$401,"<"&DATE($B$1,3,1)) | F5: =SUMIFS('Registro'!$I$2:$I$401,'Registro'!$A$2:$A$401,">="&DATE($B$1,2,1),'Registro'!$A$2:$A$401,"<"&DATE($B$1,3,1)) | G5: =SUMIFS('Registro'!$J$2:$J$401,'Registro'!$A$2:$A$401,">="&DATE($B$1,2,1),'Registro'!$A$2:$A$401,"<"&DATE($B$1,3,1)) | H5: =SUMIFS('Registro'!$K$2:$K$401,'Registro'!$A$2:$A$401,">="&DATE($B$1,2,1),'Registro'!$A$2:$A$401,"<"&DATE($B$1,3,1)) | I5: =SUMIFS('Registro'!$M$2:$M$401,'Registro'!$A$2:$A$401,">="&DATE($B$1,2,1),'Registro'!$A$2:$A$401,"<"&DATE($B$1,3,1))
A6: Marzo | B6: =COUNTIFS('Registro'!$A$2:$A$401,">="&DATE($B$1,3,1),'Registro'!$A$2:$A$401,"<"&DATE($B$1,4,1)) | C6: =SUMIFS('Registro'!$F$2:$F$401,'Registro'!$A$2:$A$401,">="&DATE($B$1,3,1),'Registro'!$A$2:$A$401,"<"&DATE($B$1,4,1)) | D6: =SUMIFS('Registro'!$G$2:$G$401,'Registro'!$A$2:$A$401,">="&DATE($B$1,3,1),'Registro'!$A$2:$A$401,"<"&DATE($B$1,4,1)) | E6: =SUMIFS('Registro'!$H$2:$H$401,'Registro'!$A$2:$A$401,">="&DATE($B$1,3,1),'Registro'!$A$2:$A$401,"<"&DATE($B$1,4,1)) | F6: =SUMIFS('Registro'!$I$2:$I$401,'Registro'!$A$2:$A$401,">="&DATE($B$1,3,1),'Registro'!$A$2:$A$401,"<"&DATE($B$1,4,1)) | G6: =SUMIFS('Registro'!$J$2:$J$401,'Registro'!$A$2:$A$401,">="&DATE($B$1,3,1),'Registro'!$A$2:$A$401,"<"&DATE($B$1,4,1)) | H6: =SUMIFS('Registro'!$K$2:$K$401,'Registro'!$A$2:$A$401,">="&DATE($B$1,3,1),'Registro'!$A$2:$A$401,"<"&DATE($B$1,4,1)) | I6: =SUMIFS('Registro'!$M$2:$M$401,'Registro'!$A$2:$A$401,">="&DATE($B$1,3,1),'Registro'!$A$2:$A$401,"<"&DATE($B$1,4,1))
A7: Abril | B7: =COUNTIFS('Registro'!$A$2:$A$401,">="&DATE($B$1,4,1),'Registro'!$A$2:$A$401,"<"&DATE($B$1,5,1)) | C7: =SUMIFS('Registro'!$F$2:$F$401,'Registro'!$A$2:$A$401,">="&DATE($B$1,4,1),'Registro'!$A$2:$A$401,"<"&DATE($B$1,5,1)) | D7: =SUMIFS('Registro'!$G$2:$G$401,'Registro'!$A$2:$A$401,">="&DATE($B$1,4,1),'Registro'!$A$2:$A$401,"<"&DATE($B$1,5,1)) | E7: =SUMIFS('Registro'!$H$2:$H$401,'Registro'!$A$2:$A$401,">="&DATE($B$1,4,1),'Registro'!$A$2:$A$401,"<"&DATE($B$1,5,1)) | F7: =SUMIFS('Registro'!$I$2:$I$401,'Registro'!$A$2:$A$401,">="&DATE($B$1,4,1),'Registro'!$A$2:$A$401,"<"&DATE($B$1,5,1)) | G7: =SUMIFS('Registro'!$J$2:$J$401,'Registro'!$A$2:$A$401,">="&DATE($B$1,4,1),'Registro'!$A$2:$A$401,"<"&DATE($B$1,5,1)) | H7: =SUMIFS('Registro'!$K$2:$K$401,'Registro'!$A$2:$A$401,">="&DATE($B$1,4,1),'Registro'!$A$2:$A$401,"<"&DATE($B$1,5,1)) | I7: =SUMIFS('Registro'!$M$2:$M$401,'Registro'!$A$2:$A$401,">="&DATE($B$1,4,1),'Registro'!$A$2:$A$401,"<"&DATE($B$1,5,1))
A8: Mayo | B8: =COUNTIFS('Registro'!$A$2:$A$401,">="&DATE($B$1,5,1),'Registro'!$A$2:$A$401,"<"&DATE($B$1,6,1)) | C8: =SUMIFS('Registro'!$F$2:$F$401,'Registro'!$A$2:$A$401,">="&DATE($B$1,5,1),'Registro'!$A$2:$A$401,"<"&DATE($B$1,6,1)) | D8: =SUMIFS('Registro'!$G$2:$G$401,'Registro'!$A$2:$A$401,">="&DATE($B$1,5,1),'Registro'!$A$2:$A$401,"<"&DATE($B$1,6,1)) | E8: =SUMIFS('Registro'!$H$2:$H$401,'Registro'!$A$2:$A$401,">="&DATE($B$1,5,1),'Registro'!$A$2:$A$401,"<"&DATE($B$1,6,1)) | F8: =SUMIFS('Registro'!$I$2:$I$401,'Registro'!$A$2:$A$401,">="&DATE($B$1,5,1),'Registro'!$A$2:$A$401,"<"&DATE($B$1,6,1)) | G8: =SUMIFS('Registro'!$J$2:$J$401,'Registro'!$A$2:$A$401,">="&DATE($B$1,5,1),'Registro'!$A$2:$A$401,"<"&DATE($B$1,6,1)) | H8: =SUMIFS('Registro'!$K$2:$K$401,'Registro'!$A$2:$A$401,">="&DATE($B$1,5,1),'Registro'!$A$2:$A$401,"<"&DATE($B$1,6,1)) | I8: =SUMIFS('Registro'!$M$2:$M$401,'Registro'!$A$2:$A$401,">="&DATE($B$1,5,1),'Registro'!$A$2:$A$401,"<"&DATE($B$1,6,1))
A9: Junio | B9: =COUNTIFS('Registro'!$A$2:$A$401,">="&DATE($B$1,6,1),'Registro'!$A$2:$A$401,"<"&DATE($B$1,7,1)) | C9: =SUMIFS('Registro'!$F$2:$F$401,'Registro'!$A$2:$A$401,">="&DATE($B$1,6,1),'Registro'!$A$2:$A$401,"<"&DATE($B$1,7,1)) | D9: =SUMIFS('Registro'!$G$2:$G$401,'Registro'!$A$2:$A$401,">="&DATE($B$1,6,1),'Registro'!$A$2:$A$401,"<"&DATE($B$1,7,1)) | E9: =SUMIFS('Registro'!$H$2:$H$401,'Registro'!$A$2:$A$401,">="&DATE($B$1,6,1),'Registro'!$A$2:$A$401,"<"&DATE($B$1,7,1)) | F9: =SUMIFS('Registro'!$I$2:$I$401,'Registro'!$A$2:$A$401,">="&DATE($B$1,6,1),'Registro'!$A$2:$A$401,"<"&DATE($B$1,7,1)) | G9: =SUMIFS('Registro'!$J$2:$J$401,'Registro'!$A$2:$A$401,">="&DATE($B$1,6,1),'Registro'!$A$2:$A$401,"<"&DATE($B$1,7,1)) | H9: =SUMIFS('Registro'!$K$2:$K$401,'Registro'!$A$2:$A$401,">="&DATE($B$1,6,1),'Registro'!$A$2:$A$401,"<"&DATE($B$1,7,1)) | I9: =SUMIFS('Registro'!$M$2:$M$401,'Registro'!$A$2:$A$401,">="&DATE($B$1,6,1),'Registro'!$A$2:$A$401,"<"&DATE($B$1,7,1))
A10: Julio | B10: =COUNTIFS('Registro'!$A$2:$A$401,">="&DATE($B$1,7,1),'Registro'!$A$2:$A$401,"<"&DATE($B$1,8,1)) | C10: =SUMIFS('Registro'!$F$2:$F$401,'Registro'!$A$2:$A$401,">="&DATE($B$1,7,1),'Registro'!$A$2:$A$401,"<"&DATE($B$1,8,1)) | D10: =SUMIFS('Registro'!$G$2:$G$401,'Registro'!$A$2:$A$401,">="&DATE($B$1,7,1),'Registro'!$A$2:$A$401,"<"&DATE($B$1,8,1)) | E10: =SUMIFS('Registro'!$H$2:$H$401,'Registro'!$A$2:$A$401,">="&DATE($B$1,7,1),'Registro'!$A$2:$A$401,"<"&DATE($B$1,8,1)) | F10: =SUMIFS('Registro'!$I$2:$I$401,'Registro'!$A$2:$A$401,">="&DATE($B$1,7,1),'Registro'!$A$2:$A$401,"<"&DATE($B$1,8,1)) | G10: =SUMIFS('Registro'!$J$2:$J$401,'Registro'!$A$2:$A$401,">="&DATE($B$1,7,1),'Registro'!$A$2:$A$401,"<"&DATE($B$1,8,1)) | H10: =SUMIFS('Registro'!$K$2:$K$401,'Registro'!$A$2:$A$401,">="&DATE($B$1,7,1),'Registro'!$A$2:$A$401,"<"&DATE($B$1,8,1)) | I10: =SUMIFS('Registro'!$M$2:$M$401,'Registro'!$A$2:$A$401,">="&DATE($B$1,7,1),'Registro'!$A$2:$A$401,"<"&DATE($B$1,8,1))
A11: Agosto | B11: =COUNTIFS('Registro'!$A$2:$A$401,">="&DATE($B$1,8,1),'Registro'!$A$2:$A$401,"<"&DATE($B$1,9,1)) | C11: =SUMIFS('Registro'!$F$2:$F$401,'Registro'!$A$2:$A$401,">="&DATE($B$1,8,1),'Registro'!$A$2:$A$401,"<"&DATE($B$1,9,1)) | D11: =SUMIFS('Registro'!$G$2:$G$401,'Registro'!$A$2:$A$401,">="&DATE($B$1,8,1),'Registro'!$A$2:$A$401,"<"&DATE($B$1,9,1)) | E11: =SUMIFS('Registro'!$H$2:$H$401,'Registro'!$A$2:$A$401,">="&DATE($B$1,8,1),'Registro'!$A$2:$A$401,"<"&DATE($B$1,9,1)) | F11: =SUMIFS('Registro'!$I$2:$I$401,'Registro'!$A$2:$A$401,">="&DATE($B$1,8,1),'Registro'!$A$2:$A$401,"<"&DATE($B$1,9,1)) | G11: =SUMIFS('Registro'!$J$2:$J$401,'Registro'!$A$2:$A$401,">="&DATE($B$1,8,1),'Registro'!$A$2:$A$401,"<"&DATE($B$1,9,1)) | H11: =SUMIFS('Registro'!$K$2:$K$401,'Registro'!$A$2:$A$401,">="&DATE($B$1,8,1),'Registro'!$A$2:$A$401,"<"&DATE($B$1,9,1)) | I11: =SUMIFS('Registro'!$M$2:$M$401,'Registro'!$A$2:$A$401,">="&DATE($B$1,8,1),'Registro'!$A$2:$A$401,"<"&DATE($B$1,9,1))
A12: Septiembre | B12: =COUNTIFS('Registro'!$A$2:$A$401,">="&DATE($B$1,9,1),'Registro'!$A$2:$A$401,"<"&DATE($B$1,10,1)) | C12: =SUMIFS('Registro'!$F$2:$F$401,'Registro'!$A$2:$A$401,">="&DATE($B$1,9,1),'Registro'!$A$2:$A$401,"<"&DATE($B$1,10,1)) | D12: =SUMIFS('Registro'!$G$2:$G$401,'Registro'!$A$2:$A$401,">="&DATE($B$1,9,1),'Registro'!$A$2:$A$401,"<"&DATE($B$1,10,1)) | E12: =SUMIFS('Registro'!$H$2:$H$401,'Registro'!$A$2:$A$401,">="&DATE($B$1,9,1),'Registro'!$A$2:$A$401,"<"&DATE($B$1,10,1)) | F12: =SUMIFS('Registro'!$I$2:$I$401,'Registro'!$A$2:$A$401,">="&DATE($B$1,9,1),'Registro'!$A$2:$A$401,"<"&DATE($B$1,10,1)) | G12: =SUMIFS('Registro'!$J$2:$J$401,'Registro'!$A$2:$A$401,">="&DATE($B$1,9,1),'Registro'!$A$2:$A$401,"<"&DATE($B$1,10,1)) | H12: =SUMIFS('Registro'!$K$2:$K$401,'Registro'!$A$2:$A$401,">="&DATE($B$1,9,1),'Registro'!$A$2:$A$401,"<"&DATE($B$1,10,1)) | I12: =SUMIFS('Registro'!$M$2:$M$401,'Registro'!$A$2:$A$401,">="&DATE($B$1,9,1),'Registro'!$A$2:$A$401,"<"&DATE($B$1,10,1))
A13: Octubre | B13: =COUNTIFS('Registro'!$A$2:$A$401,">="&DATE($B$1,10,1),'Registro'!$A$2:$A$401,"<"&DATE($B$1,11,1)) | C13: =SUMIFS('Registro'!$F$2:$F$401,'Registro'!$A$2:$A$401,">="&DATE($B$1,10,1),'Registro'!$A$2:$A$401,"<"&DATE($B$1,11,1)) | D13: =SUMIFS('Registro'!$G$2:$G$401,'Registro'!$A$2:$A$401,">="&DATE($B$1,10,1),'Registro'!$A$2:$A$401,"<"&DATE($B$1,11,1)) | E13: =SUMIFS('Registro'!$H$2:$H$401,'Registro'!$A$2:$A$401,">="&DATE($B$1,10,1),'Registro'!$A$2:$A$401,"<"&DATE($B$1,11,1)) | F13: =SUMIFS('Registro'!$I$2:$I$401,'Registro'!$A$2:$A$401,">="&DATE($B$1,10,1),'Registro'!$A$2:$A$401,"<"&DATE($B$1,11,1)) | G13: =SUMIFS('Registro'!$J$2:$J$401,'Registro'!$A$2:$A$401,">="&DATE($B$1,10,1),'Registro'!$A$2:$A$401,"<"&DATE($B$1,11,1)) | H13: =SUMIFS('Registro'!$K$2:$K$401,'Registro'!$A$2:$A$401,">="&DATE($B$1,10,1),'Registro'!$A$2:$A$401,"<"&DATE($B$1,11,1)) | I13: =SUMIFS('Registro'!$M$2:$M$401,'Registro'!$A$2:$A$401,">="&DATE($B$1,10,1),'Registro'!$A$2:$A$401,"<"&DATE($B$1,11,1))
A14: Noviembre | B14: =COUNTIFS('Registro'!$A$2:$A$401,">="&DATE($B$1,11,1),'Registro'!$A$2:$A$401,"<"&DATE($B$1,12,1)) | C14: =SUMIFS('Registro'!$F$2:$F$401,'Registro'!$A$2:$A$401,">="&DATE($B$1,11,1),'Registro'!$A$2:$A$401,"<"&DATE($B$1,12,1)) | D14: =SUMIFS('Registro'!$G$2:$G$401,'Registro'!$A$2:$A$401,">="&DATE($B$1,11,1),'Registro'!$A$2:$A$401,"<"&DATE($B$1,12,1)) | E14: =SUMIFS('Registro'!$H$2:$H$401,'Registro'!$A$2:$A$401,">="&DATE($B$1,11,1),'Registro'!$A$2:$A$401,"<"&DATE($B$1,12,1)) | F14: =SUMIFS('Registro'!$I$2:$I$401,'Registro'!$A$2:$A$401,">="&DATE($B$1,11,1),'Registro'!$A$2:$A$401,"<"&DATE($B$1,12,1)) | G14: =SUMIFS('Registro'!$J$2:$J$401,'Registro'!$A$2:$A$401,">="&DATE($B$1,11,1),'Registro'!$A$2:$A$401,"<"&DATE($B$1,12,1)) | H14: =SUMIFS('Registro'!$K$2:$K$401,'Registro'!$A$2:$A$401,">="&DATE($B$1,11,1),'Registro'!$A$2:$A$401,"<"&DATE($B$1,12,1)) | I14: =SUMIFS('Registro'!$M$2:$M$401,'Registro'!$A$2:$A$401,">="&DATE($B$1,11,1),'Registro'!$A$2:$A$401,"<"&DATE($B$1,12,1))
A15: Diciembre | B15: =COUNTIFS('Registro'!$A$2:$A$401,">="&DATE($B$1,12,1),'Registro'!$A$2:$A$401,"<"&DATE($B$1+1,1,1)) | C15: =SUMIFS('Registro'!$F$2:$F$401,'Registro'!$A$2:$A$401,">="&DATE($B$1,12,1),'Registro'!$A$2:$A$401,"<"&DATE($B$1+1,1,1)) | D15: =SUMIFS('Registro'!$G$2:$G$401,'Registro'!$A$2:$A$401,">="&DATE($B$1,12,1),'Registro'!$A$2:$A$401,"<"&DATE($B$1+1,1,1)) | E15: =SUMIFS('Registro'!$H$2:$H$401,'Registro'!$A$2:$A$401,">="&DATE($B$1,12,1),'Registro'!$A$2:$A$401,"<"&DATE($B$1+1,1,1)) | F15: =SUMIFS('Registro'!$I$2:$I$401,'Registro'!$A$2:$A$401,">="&DATE($B$1,12,1),'Registro'!$A$2:$A$401,"<"&DATE($B$1+1,1,1)) | G15: =SUMIFS('Registro'!$J$2:$J$401,'Registro'!$A$2:$A$401,">="&DATE($B$1,12,1),'Registro'!$A$2:$A$401,"<"&DATE($B$1+1,1,1)) | H15: =SUMIFS('Registro'!$K$2:$K$401,'Registro'!$A$2:$A$401,">="&DATE($B$1,12,1),'Registro'!$A$2:$A$401,"<"&DATE($B$1+1,1,1)) | I15: =SUMIFS('Registro'!$M$2:$M$401,'Registro'!$A$2:$A$401,">="&DATE($B$1,12,1),'Registro'!$A$2:$A$401,"<"&DATE($B$1+1,1,1))
A16: Año | B16: =SUM(B4:B15) | C16: =SUM(C4:C15) | D16: =SUM(D4:D15) | E16: =SUM(E4:E15) | F16: =SUM(F4:F15) | G16: =SUM(G4:G15) | H16: =SUM(H4:H15) | I16: =SUM(I4:I15)
A18: Escribe el año en B1. Cada mes suma los turnos de la hoja Registro con fecha en ese mes.
A19: Te quedó = efectivo + tarjeta + del pool − reparto: las propinas que declaras. Horas = salida − entrada − pausa.
A20: No es asesoría fiscal. Plantilla gratis de payjar.app. La app PayJar lleva este registro por ti, turno por turno.
